BEGIN:VCALENDAR
VERSION:2.0
PRODID:-//eventon.com NONSGML v1.0//EN
CALSCALE:GREGORIAN
METHOD:PUBLISH
BEGIN:VEVENT
UID:69eb7573c381e
DTSTAMP:20260424T135147Z
DTSTART:20191207T170000Z
DTEND:20191207T225000Z
LOCATION:Centro Cultural Trobajo del Cerecedo Calle La Era\,  12
SUMMARY:Musical: Rodolfo\,  el reno
DESCRIPTION:Cantacuentos musical a cargo de Moraleja de la Candileja. Music
 al navideño de Rodolfo el reno. En el centro cultural de Trobajo del Cerec
 edo. Entrada gratuita hasta completar aforo.\nhttps://www.menudoesleon.com/
 eventos/musical-rodolfo-el-reno/
URL:https://www.menudoesleon.com/eventos/musical-rodolfo-el-reno/
END:VEVENT
END:VCALENDAR