BEGIN:VCALENDAR
VERSION:2.0
PRODID:-//eventon.com NONSGML v1.0//EN
CALSCALE:GREGORIAN
METHOD:PUBLISH
BEGIN:VEVENT
UID:69eb596491940
DTSTAMP:20260424T115204Z
DTSTART:20191222T170000Z
DTEND:20191222T225000Z
LOCATION:Centro Social Mariano Andrés Calle Frontón 7
SUMMARY:Jonás y el pequeño astronauta
DESCRIPTION:Kokoro\,  Teatro de Títeres\,  trae el montaje Jonás y el peq
 ueño astronauta al Centro Social de Mariano Andrés a partir de las 18 hor
 as el día 22 de diciembre. La obra habla de Jonás\,  que vive en un plane
 ta muy pequeñito y que todas las mañanas\,  en compañía de su[..]\nhttp
 s://www.menudoesleon.com/eventos/jonas-y-el-pequeno-astronauta/
URL:https://www.menudoesleon.com/eventos/jonas-y-el-pequeno-astronauta/
END:VEVENT
END:VCALENDAR