BEGIN:VCALENDAR
VERSION:2.0
PRODID:-//eventon.com NONSGML v1.0//EN
CALSCALE:GREGORIAN
METHOD:PUBLISH
BEGIN:VEVENT
UID:69eb5809ee927
DTSTAMP:20260424T114617Z
DTSTART:20191222T163000Z
DTEND:20191222T225000Z
LOCATION:
SUMMARY:Calle Scena (segundo recorrido)
DESCRIPTION:Calle Scena es teatro de calle durante todo el domingo 22. Cada
  espectáculo comienza con un pasacalles y concluye con una actuación al f
 inal del recorrido. Participan seis compañías de España\,  Francia y Bé
 lgica que llevarán su montaje a diferentes puntos de la ciudad. Zona Centr
 o\,  inicio del pasacallesen San[..]\nhttps://www.menudoesleon.com/eventos/
 calle-scena-segundo-recorrido/
URL:https://www.menudoesleon.com/eventos/calle-scena-segundo-recorrido/
END:VEVENT
END:VCALENDAR