BEGIN:VCALENDAR
VERSION:2.0
PRODID:-//eventon.com NONSGML v1.0//EN
CALSCALE:GREGORIAN
METHOD:PUBLISH
BEGIN:VEVENT
UID:69eb5911d737b
DTSTAMP:20260424T115041Z
DTSTART:20191221T180000Z
DTEND:20191221T225000Z
LOCATION:Auditorio de León Av. de los Reyes Leoneses\,  4\,  24008 León
SUMMARY:El mundo mágico de Pinocho (segunda sesión)
DESCRIPTION:Educateatro ya ha estado en León con Los tres cerditos y Caper
 ucita roja\,  y ahora llega con El Mundo Magico de Pinocho\,  que podrá ve
 rse en fechas navideñas. Curiosa adaptación al teatro musical del clásic
 o de Carlo Collodi. Una historia contada a través de los ojos de Pepito Gr
 illo\,  que[..]\nhttps://www.menudoesleon.com/eventos/el-mundo-magico-de-pi
 nocho-segunda-sesion/
URL:https://www.menudoesleon.com/eventos/el-mundo-magico-de-pinocho-segunda-sesion/
END:VEVENT
END:VCALENDAR