BEGIN:VCALENDAR
VERSION:2.0
PRODID:-//eventon.com NONSGML v1.0//EN
CALSCALE:GREGORIAN
METHOD:PUBLISH
BEGIN:VEVENT
UID:69eb59d13037c
DTSTAMP:20260424T115353Z
DTSTART:20191227
DTEND:20191228
LOCATION:
SUMMARY:Festival León Vive la Magia (viernes 27)
DESCRIPTION:El Festival Internacional Vive la Magia celebra su XVI edición
  en León del 25 al 31 de diciembre. El programa para este viernes es el si
 guiente: ESCUELA DE MAGOS 11:00 h. Sede en León de la ONCE\,  Calle Luis 
 Carmona\,  7 – Bajo Inscripciones gratuita en: fantasiaycomodin@gmail.co
 m MAGIA SOCIAL 11:00 h. Andrély\, [..]\nhttps://www.menudoesleon.com/event
 os/festival-leon-vive-la-magia-3/
URL:https://www.menudoesleon.com/eventos/festival-leon-vive-la-magia-3/
END:VEVENT
END:VCALENDAR