BEGIN:VCALENDAR
VERSION:2.0
PRODID:-//eventon.com NONSGML v1.0//EN
CALSCALE:GREGORIAN
METHOD:PUBLISH
BEGIN:VEVENT
UID:69eb598ec5ea2
DTSTAMP:20260424T115246Z
DTSTART:20191228
DTEND:20191229
LOCATION:
SUMMARY:Festival León Vive la Magia (sábado 28)
DESCRIPTION:El Festival Internacional Vive la Magia celebra su XVI edición
  en León del 25 al 31 de diciembre. El programa para este sábado es el si
 guiente: ESCUELA DE MAGOS 11:00 h. Sede en León de la ONCE\,  Calle Luis 
 Carmona\,  7 – Bajo Inscripciones gratuitas en: fantasiaycomodin@gmail.c
 om MAGIA SOCIAL 11:30 h. Mago Alaz\, [..]\nhttps://www.menudoesleon.com/ev
 entos/festival-leon-vive-la-magia-4/
URL:https://www.menudoesleon.com/eventos/festival-leon-vive-la-magia-4/
END:VEVENT
END:VCALENDAR