BEGIN:VCALENDAR
VERSION:2.0
PRODID:-//eventon.com NONSGML v1.0//EN
CALSCALE:GREGORIAN
METHOD:PUBLISH
BEGIN:VEVENT
UID:69e74d3aa56f8
DTSTAMP:20260421T101106Z
DTSTART:20200121T171500Z
DTEND:20200121T225000Z
LOCATION:Biblioteca Padre Isla Av del Padre Isla\,  57
SUMMARY:Cuentacuentos: Cuentos especiales
DESCRIPTION:Cuentos especiales\,  con Emma S. Varela Teléfono para apuntar
 se: 987 23 21 10. Indicado a partir de los 3 años. Entre los 3 y los 6 deb
 en estar acompañados de un adulto. El plazo de inscripción para cada cuen
 tacuentos se abre una semana antes de la fecha de realización. &nbsp;\nhtt
 ps://www.menudoesleon.com/eventos/cuentacuentos-cuentos-especiales/
URL:https://www.menudoesleon.com/eventos/cuentacuentos-cuentos-especiales/
END:VEVENT
END:VCALENDAR