BEGIN:VCALENDAR
VERSION:2.0
PRODID:-//eventon.com NONSGML v1.0//EN
CALSCALE:GREGORIAN
METHOD:PUBLISH
BEGIN:VEVENT
UID:69e74c27ef50b
DTSTAMP:20260421T100631Z
DTSTART:20200322T173000Z
DTEND:20200322T225000Z
LOCATION:Auditorio de León Av. de los Reyes Leoneses\,  4\,  24008 León
SUMMARY:Caperucita. Lo que nunca se contó
DESCRIPTION:Caperucita. Lo que nunca se contó\,  es de Teloncillo Teatro\,
   compañía con 50 años de trayectoria y que en 2013 fue Premio Nacional 
 de Artes Escénicas para la Infancia y la Juventud. ¿De qué va? La premia
 da obra de teatro que traen al Auditorio de León\,  Caperucita. Lo que nun
 ca[..]\nhttps://www.menudoesleon.com/eventos/caperucita-lo-que-nunca-se-con
 to/
URL:https://www.menudoesleon.com/eventos/caperucita-lo-que-nunca-se-conto/
END:VEVENT
END:VCALENDAR