BEGIN:VCALENDAR
VERSION:2.0
PRODID:-//eventon.com NONSGML v1.0//EN
CALSCALE:GREGORIAN
METHOD:PUBLISH
BEGIN:VEVENT
UID:69e738e6bc95f
DTSTAMP:20260421T084422Z
DTSTART:20200509T163000Z
DTEND:20200509T215000Z
LOCATION:Auditorio de León Av. de los Reyes Leoneses\,  4\,  24008 León
SUMMARY:Buscando a  Don Cristóbal
DESCRIPTION:El espectáculo\,  protagonizado por Cristobita\,  el nieto de 
 Don Cristóbal\,  consta de tres pequeñas obritas\,  adaptaciones basadas 
 en los géneros populares del repertorio tradicional europeo: El castillo e
 ncantado\,  donde Cristobita\,  al igual que Juan sin miedo\,  tendrá que 
 enfrentarse a los dragones\,  fantasmas y vencer los peligros que se interp
 onen[..]\nhttps://www.menudoesleon.com/eventos/buscando-a-don-cristobal/
URL:https://www.menudoesleon.com/eventos/buscando-a-don-cristobal/
END:VEVENT
END:VCALENDAR