BEGIN:VCALENDAR
VERSION:2.0
PRODID:-//eventon.com NONSGML v1.0//EN
CALSCALE:GREGORIAN
METHOD:PUBLISH
BEGIN:VEVENT
UID:69e7e4fb7ad53
DTSTAMP:20260421T205835Z
DTSTART:20201206T050000Z
DTEND:20201206T105000Z
LOCATION:Teatro San Francisco Calle la Corredera\,  1\,  24003 León
SUMMARY:No nos moverán (sábado)
DESCRIPTION:(Esta obra sustituye a Maricastaña\,  que estaba prevista inic
 ialmente) Cuenta la historia de unos jóvenes que fueron a vivir a un peque
 ño pueblo abandonado\,  las dificultades que tuvieron y cómo las superaro
 n. Los títeres están hechos a partir de objetos cotidianos: coladores\,  
 sartenes\,  cucharas y aperos que cobran vida y[..]\nhttps://www.menudoesle
 on.com/eventos/maricastana-sabado/
URL:https://www.menudoesleon.com/eventos/maricastana-sabado/
END:VEVENT
END:VCALENDAR