BEGIN:VCALENDAR
VERSION:2.0
PRODID:-//eventon.com NONSGML v1.0//EN
CALSCALE:GREGORIAN
METHOD:PUBLISH
BEGIN:VEVENT
UID:69e7e4a3e1219
DTSTAMP:20260421T205707Z
DTSTART:20201210T053000Z
DTEND:20201210T105000Z
LOCATION:Biblioteca Pública de León Calle Santa Nonia\,  5
SUMMARY:Cuento de Navidad
DESCRIPTION:Teatro familiar con Kamaru. Para usuarios a partir de 3 años. 
 Con aforo restringido. Inscripción previa en recepción. Estamos ante un c
 lásico de la Navidad. Pero con la incorporación de nuevos lenguajes escé
 nicos y un final adaptado a todos los tiempos. Esta obra de Charles Dickens
  supone un repaso a[..]\nhttps://www.menudoesleon.com/eventos/cuento-de-nav
 idad/
URL:https://www.menudoesleon.com/eventos/cuento-de-navidad/
END:VEVENT
END:VCALENDAR