BEGIN:VCALENDAR
VERSION:2.0
PRODID:-//eventon.com NONSGML v1.0//EN
CALSCALE:GREGORIAN
METHOD:PUBLISH
BEGIN:VEVENT
UID:69e7e50f9a277
DTSTAMP:20260421T205855Z
DTSTART:20201204T170000Z
DTEND:20201204T225000Z
LOCATION:Casa de Cultura de Pinilla Calle Victoriano Cremer\,  1
SUMMARY:Pobre gallinita
DESCRIPTION:Inspirado en el cuento de Gloria Fuertes\,  este espectáculo d
 e clown con tintes de circo aborda desde el humor la historia de la pobre g
 allinita Proserpina\,  a la que todo salía mal. Tan mal\,  que en el momen
 to de tener que poner huevos\,  le salen directamente huevos fritos. Para a
 cudir[..]\nhttps://www.menudoesleon.com/eventos/pobre-gallinita/
URL:https://www.menudoesleon.com/eventos/pobre-gallinita/
END:VEVENT
END:VCALENDAR