BEGIN:VCALENDAR
VERSION:2.0
PRODID:-//eventon.com NONSGML v1.0//EN
CALSCALE:GREGORIAN
METHOD:PUBLISH
BEGIN:VEVENT
UID:69e7e45c1b675
DTSTAMP:20260421T205556Z
DTSTART:20201206T050000Z
DTEND:20201206T105000Z
LOCATION:CEIP Los Adiles C/ El Remesón\,  0
SUMMARY:Circo Chicharrón
DESCRIPTION:Rafael Malabarel y Marina Malabararina\,  de Chimichurri Circo\
 ,  combinan el teatro\,  el clown y el circo logrando una mezcla perfecta d
 onde todos reímos sin pausa. Aplausos\,  gritos\,  locura\,  sorpresas\,  
 tropiezos&#8230; con muchos personajes en escena. Evento gratuito. Necesari
 a invitación. Se recogen en el Ayuntamiento de Villaquilambre.\nhttps://ww
 w.menudoesleon.com/eventos/circo-chicharron/
URL:https://www.menudoesleon.com/eventos/circo-chicharron/
END:VEVENT
END:VCALENDAR