BEGIN:VCALENDAR
VERSION:2.0
PRODID:-//eventon.com NONSGML v1.0//EN
CALSCALE:GREGORIAN
METHOD:PUBLISH
BEGIN:VEVENT
UID:69e7e4706f418
DTSTAMP:20260421T205616Z
DTSTART:20201208T170000Z
DTEND:20201208T225000Z
LOCATION:CEIP Los Adiles C/ El Remesón\,  0
SUMMARY:Patas Arriba (Tiritirantes)
DESCRIPTION:Espectáculo familiar donde el humor\,  los malabares y las acr
 obacias aéreas son los principales ingredientes. Es una historia sobre el 
 circo\,  tierna y divertida\,  en la que el clown en su afán de protagonis
 mo nos guía por este fantástico mundo del circo\,  mostrando los devenire
 s de los tres personajes que[..]\nhttps://www.menudoesleon.com/eventos/pata
 s-arriba-tiritirantes/
URL:https://www.menudoesleon.com/eventos/patas-arriba-tiritirantes/
END:VEVENT
END:VCALENDAR