BEGIN:VCALENDAR
VERSION:2.0
PRODID:-//eventon.com NONSGML v1.0//EN
CALSCALE:GREGORIAN
METHOD:PUBLISH
BEGIN:VEVENT
UID:69e9dca476394
DTSTAMP:20260423T084732Z
DTSTART:20210721T070000Z
DTEND:20210721T105000Z
LOCATION:CEIP Quevedo Av. San Ignacio de Loyola\,  0\,  24010 León
SUMMARY:Piruleta y Cacahué
DESCRIPTION:Piruleta y Cacahué llegan dispuestos a preparar una fiesta sor
 presa ¿Quién será el afortunado? Ni ellos mismos lo saben. Ahora bien\, 
  ¿cuentan con todo lo necesario para que la celebración sea un éxito o u
 n fracaso? Una cosa está clara: esta pareja tan singular está formada por
  dos auténticos payasos[..]\nhttps://www.menudoesleon.com/eventos/piruleta
 -y-cacahue/
URL:https://www.menudoesleon.com/eventos/piruleta-y-cacahue/
END:VEVENT
END:VCALENDAR