BEGIN:VCALENDAR
VERSION:2.0
PRODID:-//eventon.com NONSGML v1.0//EN
CALSCALE:GREGORIAN
METHOD:PUBLISH
BEGIN:VEVENT
UID:69e78b908c4ef
DTSTAMP:20260421T143704Z
DTSTART:20210804T070000Z
DTEND:20210804T105000Z
LOCATION:IES OrdoÃ±o II Av. San Juan de SahagÃºn\,  s/n\,  24007 LeÃ³n
SUMMARY:Lo normal es ser distinto
DESCRIPTION:Un espectÃ¡culo entraÃ±able para toda la familia. Este guion na
 ce de la necesidad de tratar un tema como la discapacidad en un entorno sin
  dramas y rodeado de ternura y buen humor. Este polifacÃ©tico artista leonÃ
 ©s nos regala su show mÃ¡s cercano y comprometido.\nhttps://www.menudoesleo
 n.com/eventos/lo-normal-es-ser-distinto/
URL:https://www.menudoesleon.com/eventos/lo-normal-es-ser-distinto/
END:VEVENT
END:VCALENDAR