BEGIN:VCALENDAR
VERSION:2.0
PRODID:-//eventon.com NONSGML v1.0//EN
CALSCALE:GREGORIAN
METHOD:PUBLISH
BEGIN:VEVENT
UID:69e7884b3b548
DTSTAMP:20260421T142307Z
DTSTART:20210723T090000Z
DTEND:20210723T105000Z
LOCATION:Paseo de Quintanilla
SUMMARY:Cine de verano: 'Regreso al futuro'
DESCRIPTION:El Ayuntamiento de León organiza un año más el Cine de Veran
 o con la proyección de películas en el paseo de Quintanilla\,  en el bar
 rio de La Palomera.  El 22 de julio proyectan Regreso al futuro (1985). 
 Dir: Robert Zemeckis. El adolescente Marty McFly es amigo de Doc\,  un cien
 tífico al que todos[..]\nhttps://www.menudoesleon.com/eventos/cine-de-vera
 no-regreso-al-futuro/
URL:https://www.menudoesleon.com/eventos/cine-de-verano-regreso-al-futuro/
END:VEVENT
END:VCALENDAR