BEGIN:VCALENDAR
VERSION:2.0
PRODID:-//eventon.com NONSGML v1.0//EN
CALSCALE:GREGORIAN
METHOD:PUBLISH
BEGIN:VEVENT
UID:69e786f934a6d
DTSTAMP:20260421T141729Z
DTSTART:20210726T000000Z
DTEND:20210726T105000Z
LOCATION:Jardines del Santuario de la Virgen del Camino Santuario de La Virgen del Camino
SUMMARY:Cuentos para niños perVERSOS
DESCRIPTION:Cuentos para niños perVERSOS\,  de la compañía Baychimo Teat
 ro\,  ofrece un retorno a los cuentos populares en toda su esencia. Utiliza
 ndo historias clásicas revisita los mundos del ‘Érase una vez..’\,  p
 ero por los caminos más insospechados\,  llenos de giros inesperados\,  d
 e finales sorprendentes\,  de personajes desmitificados y\,  sobre todo\,  
 de[..]\nhttps://www.menudoesleon.com/eventos/cuentos-para-ninos-perversos/
URL:https://www.menudoesleon.com/eventos/cuentos-para-ninos-perversos/
END:VEVENT
END:VCALENDAR