BEGIN:VCALENDAR
VERSION:2.0
PRODID:-//eventon.com NONSGML v1.0//EN
CALSCALE:GREGORIAN
METHOD:PUBLISH
BEGIN:VEVENT
UID:69e78871ba208
DTSTAMP:20260421T142345Z
DTSTART:20210722T050000Z
DTEND:20210722T105000Z
LOCATION:Teatro Nuevo Recreo Industrial Plaza de San Marcelo\,  18\,  León
SUMMARY:Mini Lecyt. Cortos
DESCRIPTION:Cortos dirigidos a todos los públicos dentro de la sección Mi
 ni Lecyt del Festival de Cine y Televisión de León. En esta sesión hay t
 res cortos de animación y uno que no lo es\,  La llave maestra. Este últi
 mo es el más largo y su temática es de educación por[..]\nhttps://www.me
 nudoesleon.com/eventos/mini-lecyt-cortos/
URL:https://www.menudoesleon.com/eventos/mini-lecyt-cortos/
END:VEVENT
END:VCALENDAR