BEGIN:VCALENDAR
VERSION:2.0
PRODID:-//eventon.com NONSGML v1.0//EN
CALSCALE:GREGORIAN
METHOD:PUBLISH
BEGIN:VEVENT
UID:69e73a16af2bb
DTSTAMP:20260421T084926Z
DTSTART:20211127T230000Z
DTEND:20211128T105000Z
LOCATION:Biblioteca Pública de León Calle Santa Nonia\,  5
SUMMARY:Cuentacuentos Kamishibai
DESCRIPTION:Kamishibai (cuentacuentos) en la Biblioteca Pública de León c
 on María del Mar Bonaque. Los menores de 3 años deben acudir acompañados
  de un adulto.  Aforo restringido. Inscripciones en recepción.\nhttps://w
 ww.menudoesleon.com/eventos/cuentacuentos-kamishibai/
URL:https://www.menudoesleon.com/eventos/cuentacuentos-kamishibai/
END:VEVENT
END:VCALENDAR