BEGIN:VCALENDAR
VERSION:2.0
PRODID:-//eventon.com NONSGML v1.0//EN
CALSCALE:GREGORIAN
METHOD:PUBLISH
BEGIN:VEVENT
UID:69e70e1d0b11b
DTSTAMP:20260421T054149Z
DTSTART:20221031T233000Z
DTEND:20221101T105000Z
LOCATION:Museo de la Emigración Leonesa Suero de Quiñones\,  8 León
SUMMARY:Taller de maquillaje para ser catrinas y catrines
DESCRIPTION:El Museo de la Emigración Leonesa celebra el Día de Muertos p
 or todo lo alto con un taller de maquillaje\,  tocados y accesorios para ca
 trinas y catrines.  El objetivo es que niños y niñas vivan y entiendan e
 sta tradición mexicana. Los convertirán en catrines y catrinas y podrán 
 visitar un[..]\nhttps://www.menudoesleon.com/eventos/taller-de-maquillaje-p
 ara-ser-catrinas-y-catrines-3/
URL:https://www.menudoesleon.com/eventos/taller-de-maquillaje-para-ser-catrinas-y-catrines-3/
END:VEVENT
END:VCALENDAR