BEGIN:VCALENDAR
VERSION:2.0
PRODID:-//eventon.com NONSGML v1.0//EN
CALSCALE:GREGORIAN
METHOD:PUBLISH
BEGIN:VEVENT
UID:69e5e0892e9ec
DTSTAMP:20260420T081505Z
DTSTART:20260418T160000Z
DTEND:20260418T215900Z
LOCATION:Teatro San Francisco Calle la Corredera\,  1\,  24003 León
SUMMARY:Payasito de rodeo busca empleo
DESCRIPTION:Payasito de rodeo busca empleo\,  de la compañía Títeres y m
 arionetas El Tenderete (México) dentro del IV Festival Iberoamericano La S
 enda del Títere. Espectáculo de marionetas que cuenta la historia de un p
 ayasito de rodeo y su burrita Pollina que buscan otros horizontes\,  llegan
 do a un circo donde podrá aplicar[..]\nhttps://www.menudoesleon.com/evento
 s/payasito-de-rodeo-busca-empleo/
URL:https://www.menudoesleon.com/eventos/payasito-de-rodeo-busca-empleo/
END:VEVENT
END:VCALENDAR