BEGIN:VCALENDAR
VERSION:2.0
PRODID:-//eventon.com NONSGML v1.0//EN
CALSCALE:GREGORIAN
METHOD:PUBLISH
BEGIN:VEVENT
UID:69e5e104c84ab
DTSTAMP:20260420T081708Z
DTSTART:20260419T100000Z
DTEND:20260419T215900Z
LOCATION:Teatro San Francisco Calle la Corredera\,  1\,  24003 León
SUMMARY:El árbol de colores
DESCRIPTION:El árbol de colores\,  de la compañía Arlequín y Juglares (
 Colombia) dentro del IV Festival Iberoamericano La Senda del Títere. Cerc
 a de Pueblo Encantado\,  hay un árbol que florece todas las primaveras. Es
  un bien de la comunidad y los campesinos realizan romerías para el tiempo
  de la cosecha\,  lo que[..]\nhttps://www.menudoesleon.com/eventos/el-arbol
 -de-colores/
URL:https://www.menudoesleon.com/eventos/el-arbol-de-colores/
END:VEVENT
END:VCALENDAR