BEGIN:VCALENDAR
VERSION:2.0
PRODID:-//eventon.com NONSGML v1.0//EN
CALSCALE:GREGORIAN
METHOD:PUBLISH
BEGIN:VEVENT
UID:69e5e2442971f
DTSTAMP:20260420T082228Z
DTSTART:20260418T100000Z
DTEND:20260418T215900Z
LOCATION:Museo Liceo Egipcio Palacio de Gaviria. C/ Conde Luna\,  6
SUMMARY:Taller 'La mujer egipcia'
DESCRIPTION:El Museo Liceo Egipcio de León organiza el taller &#8216;La mu
 jer egipcia&#8217; para niños y niñas entre 4 y 12 años. Tiene un precio
  de 9\, 50 euros. Las reservas pueden realizarse en el teléfono 987 050 01
 3 o por mail info@museoliceoegipcio.es. &nbsp;\nhttps://www.menudoesleon.co
 m/eventos/taller-la-mujer-egipcia-2/
URL:https://www.menudoesleon.com/eventos/taller-la-mujer-egipcia-2/
END:VEVENT
END:VCALENDAR