BEGIN:VCALENDAR
VERSION:2.0
PRODID:-//eventon.com NONSGML v1.0//EN
CALSCALE:GREGORIAN
METHOD:PUBLISH
BEGIN:VEVENT
UID:69e5e69797424
DTSTAMP:20260420T084055Z
DTSTART:20260418T090000Z
DTEND:20260418T215900Z
LOCATION:Musac Avenida de los Reyes Leoneses\,  24
SUMMARY:Diverviaje para Pequeamigos
DESCRIPTION:Diverviaje para Pequeamigos en el Musac el sábado 18 de abril.
   ¿Qué significa el hogar cuando lo has dejado atrás? Explorarán la nu
 eva exposición de la Colección MUSAC ¿No hay nada como el hogar?\,  una 
 invitación para que los pequeamigos reflexionen sobre qué es realmente un
  hogar y por qué[..]\nhttps://www.menudoesleon.com/eventos/diverviaje-pequ
 eamigos-18-abril-peques/
URL:https://www.menudoesleon.com/eventos/diverviaje-pequeamigos-18-abril-peques/
END:VEVENT
END:VCALENDAR