BEGIN:VCALENDAR
VERSION:2.0
PRODID:-//eventon.com NONSGML v1.0//EN
CALSCALE:GREGORIAN
METHOD:PUBLISH
BEGIN:VEVENT
UID:69e5e16304503
DTSTAMP:20260420T081843Z
DTSTART:20260418T103000Z
DTEND:20260418T215900Z
LOCATION:Musac Avenida de los Reyes Leoneses\,  24
SUMMARY:Diverviaje para Pequeamigos
DESCRIPTION:Diverviaje para Pequeamigos en el Musac el sábado 18 de abril.
   ¿Qué significa el hogar cuando lo has dejado atrás? Explorarán la nu
 eva exposición de la Colección MUSAC ¿No hay nada como el hogar?\,  una 
 invitación para que los pequeamigos reflexionen sobre qué es realmente un
  hogar y por qué[..]\nhttps://www.menudoesleon.com/eventos/diverviaje-para
 -pequeamigos-3/
URL:https://www.menudoesleon.com/eventos/diverviaje-para-pequeamigos-3/
END:VEVENT
END:VCALENDAR