BEGIN:VCALENDAR
VERSION:2.0
PRODID:-//eventon.com NONSGML v1.0//EN
CALSCALE:GREGORIAN
METHOD:PUBLISH
BEGIN:VEVENT
UID:69e8975c31ffa
DTSTAMP:20260422T093940Z
DTSTART:20260418T093000Z
DTEND:20260418T215900Z
LOCATION:Parque Virgen del Camino
SUMMARY:Observación del sol
DESCRIPTION:Con motivo del eclipse total de sol del próximo 12 de agosto\,
   cuya franja de totalidad atraviesa la provincia de León\,  convirtiéndo
 la en un mirador privilegiado para disfrutarlo\,  la Asociación Leonesa de
  Astronomía continúa llevando a cabo sus actividades para preparar este i
 mportante evento astronómico con la colaboración del Ayuntamiento[..]\nht
 tps://www.menudoesleon.com/eventos/observacion-sol/
URL:https://www.menudoesleon.com/eventos/observacion-sol/
END:VEVENT
END:VCALENDAR