BEGIN:VCALENDAR
VERSION:2.0
PRODID:-//eventon.com NONSGML v1.0//EN
CALSCALE:GREGORIAN
METHOD:PUBLISH
BEGIN:VEVENT
UID:69e5dfe7ab804
DTSTAMP:20260420T081223Z
DTSTART:20260425T183000Z
DTEND:20260425T215900Z
LOCATION:Parque Virgen del Camino
SUMMARY:Un paseo por el cielo
DESCRIPTION:Con motivo del eclipse total de sol del próximo 12 de agosto\,
   cuya franja de totalidad atraviesa la provincia de León\,  convirtiéndo
 la en un mirador privilegiado para disfrutarlo\,  la Asociación Leonesa de
  Astronomía continúa llevando a cabo sus actividades para preparar este i
 mportante evento astronómico con la colaboración del Ayuntamiento[..]\nht
 tps://www.menudoesleon.com/eventos/paseo-cielo/
URL:https://www.menudoesleon.com/eventos/paseo-cielo/
END:VEVENT
END:VCALENDAR