BEGIN:VCALENDAR
VERSION:2.0
PRODID:-//eventon.com NONSGML v1.0//EN
CALSCALE:GREGORIAN
METHOD:PUBLISH
BEGIN:VEVENT
UID:69eb30cb0a479
DTSTAMP:20260424T085851Z
DTSTART:20260418T100000Z
DTEND:20260418T215900Z
LOCATION:Librería Santos Lectores Calle Sancho Ordóñez\,  20
SUMMARY:Cuentoterapia: Orejas de mariposa
DESCRIPTION:Este sábado\,  las profesionales del Servicio de Apoyo Familia
 r Mano Amiga impartirán un taller en la librería Santos Lectores (calle S
 ancho Ordóñez\,  20) bajo el título Orejas de mariposa. Un cuento para h
 ablar de auotestima: el autoconcepto\,  el respeto hacia el resto de person
 as\,  la inteligencia emocional y la imaginación.[..]\nhttps://www.menudoe
 sleon.com/eventos/cuentoterapia-orejas-de-mariposa/
URL:https://www.menudoesleon.com/eventos/cuentoterapia-orejas-de-mariposa/
END:VEVENT
END:VCALENDAR