BEGIN:VCALENDAR
VERSION:2.0
PRODID:-//eventon.com NONSGML v1.0//EN
CALSCALE:GREGORIAN
METHOD:PUBLISH
BEGIN:VEVENT
UID:69e64746d6089
DTSTAMP:20260420T153326Z
DTSTART:20260423T100000Z
DTEND:20260423T215900Z
LOCATION:Palacio de los Guzmanes
SUMMARY:Cuentacuentos: 'Un error morrocotudo y otros cuentos pistonudos'
DESCRIPTION:El Día del Libro se celebrará el jueves 23 de abril en el pat
 io del Palacio de los Guzmanes entre las 11 y las 21 horas. Habrá stands d
 e diferentes librerías y actividades. Para los peques han organizado un cu
 entacuentos a las 12 horas a cargo de Jesús Burgoa: &#8216;Un[..]\nhttps:/
 /www.menudoesleon.com/eventos/cuentacuentos-un-error-morrocotudo-y-otros-cu
 entos-pistonudos/
URL:https://www.menudoesleon.com/eventos/cuentacuentos-un-error-morrocotudo-y-otros-cuentos-pistonudos/
END:VEVENT
END:VCALENDAR