BEGIN:VCALENDAR
VERSION:2.0
PRODID:-//eventon.com NONSGML v1.0//EN
CALSCALE:GREGORIAN
METHOD:PUBLISH
BEGIN:VEVENT
UID:69e9e3499f321
DTSTAMP:20260423T091553Z
DTSTART:20260424T163000Z
DTEND:20260424T215900Z
LOCATION:Biblioteca de Villaquilambre
SUMMARY:Cuentacuentos: 'El caballero que perdió su caballo'
DESCRIPTION:Cuentacuentos en Villaquilambre. A las 18 horas en la Bibliotec
 a de Villaquilambre. El caballero que perdió su caballo. A cargo de Franci
 sco José Fernández.\nhttps://www.menudoesleon.com/eventos/cuentacuentos-e
 l-caballero-que-perdio-su-caballo/
URL:https://www.menudoesleon.com/eventos/cuentacuentos-el-caballero-que-perdio-su-caballo/
END:VEVENT
END:VCALENDAR