BEGIN:VCALENDAR
VERSION:2.0
PRODID:-//eventon.com NONSGML v1.0//EN
CALSCALE:GREGORIAN
METHOD:PUBLISH
BEGIN:VEVENT
UID:69e9e25513186
DTSTAMP:20260423T091149Z
DTSTART:20260425T103000Z
DTEND:20260425T215900Z
LOCATION:Casa de Cultura de Villaquilambre
SUMMARY:Cuentacuentos: 'Las aventuras de Miguelín'
DESCRIPTION:Cuentacuentos en Villaquilambre. A las 12.30 horas en la Casa d
 e Cultura de Villaquilambre Las aventuras de Miguelín. A cargo de Francisc
 o José Fernández. Con música en directo.\nhttps://www.menudoesleon.com/e
 ventos/cuentacuentos-las-aventuras-de-miguelin/
URL:https://www.menudoesleon.com/eventos/cuentacuentos-las-aventuras-de-miguelin/
END:VEVENT
END:VCALENDAR