BEGIN:VCALENDAR
VERSION:2.0
PRODID:-//eventon.com NONSGML v1.0//EN
CALSCALE:GREGORIAN
METHOD:PUBLISH
BEGIN:VEVENT
UID:69e9e15809360
DTSTAMP:20260423T090736Z
DTSTART:20260425T100000Z
DTEND:20260425T215900Z
LOCATION:Museo Liceo Egipcio Palacio de Gaviria. C/ Conde Luna\,  6
SUMMARY:Taller Arqueólogo por un día
DESCRIPTION:El Museo Liceo Egipcio de León organiza el taller &#8216;Arque
 ólogo por un día&#8217; para niños y niñas entre 4 y 12 años. Tiene un
  precio de 9\, 50 euros. Las reservas pueden realizarse en el teléfono 987
  050 013 o por mail info@museoliceoegipcio.es. &nbsp;\nhttps://www.menudoes
 leon.com/eventos/taller-arqueologo-por-un-dia-8/
URL:https://www.menudoesleon.com/eventos/taller-arqueologo-por-un-dia-8/
END:VEVENT
END:VCALENDAR