BEGIN:VCALENDAR
VERSION:2.0
PRODID:-//eventon.com NONSGML v1.0//EN
CALSCALE:GREGORIAN
METHOD:PUBLISH
BEGIN:VEVENT
UID:69e9e157835ab
DTSTAMP:20260423T090735Z
DTSTART:20260426T090000Z
DTEND:20260426T215900Z
LOCATION:La CabaÃ±a Calle Relojero Losada\,  33\,  LeÃ³n
SUMMARY:Cuentacuentos con Emma S. Varela
DESCRIPTION:Cuentacuentos para celebrar el DÃ­a del Libro con Emma S. Varel
 a en el espacio creativo La CabaÃ±a\,  ubicado en la calle Relojero Losada.
  Tiene un precio de 5 eurosÂ  por peque y es necesario reservar plaza. PodÃ
 ©is inscribiros a travÃ©s de este enlace.\nhttps://www.menudoesleon.com/eve
 ntos/cuentacuentos-con-emma-s-varela-5/
URL:https://www.menudoesleon.com/eventos/cuentacuentos-con-emma-s-varela-5/
END:VEVENT
END:VCALENDAR