BEGIN:VCALENDAR
VERSION:2.0
PRODID:-//eventon.com NONSGML v1.0//EN
CALSCALE:GREGORIAN
METHOD:PUBLISH
BEGIN:VEVENT
UID:69e9e1fba3073
DTSTAMP:20260423T091019Z
DTSTART:20260425T160000Z
DTEND:20260425T215900Z
LOCATION:Teatro San Francisco Calle la Corredera\,  1\,  24003 León
SUMMARY:¡Chan\,  Chan\,  Plan!
DESCRIPTION:¡Chan\,  Chan\,  Plan! De la compañía argentina Arde La Nona
 . Dentro del IV Festival Iberoamericano La Senda del Títere. Esta es la hi
 storia de tres hermanas chanchitas que a la hora de dejar su hogar deciden 
 hacer un plan para cambiar\,  de una vez por todas\,  la tan conocida histo
 ria.[..]\nhttps://www.menudoesleon.com/eventos/chan-chan-plan/
URL:https://www.menudoesleon.com/eventos/chan-chan-plan/
END:VEVENT
END:VCALENDAR