BEGIN:VCALENDAR
VERSION:2.0
PRODID:-//eventon.com NONSGML v1.0//EN
CALSCALE:GREGORIAN
METHOD:PUBLISH
BEGIN:VEVENT
UID:69e9e1fbae864
DTSTAMP:20260423T091019Z
DTSTART:20260426T100000Z
DTEND:20260426T215900Z
LOCATION:Teatro San Francisco Calle la Corredera\,  1\,  24003 LeÃ³n
SUMMARY:Mundo Bilina
DESCRIPTION:Mundo Bilina. De la compaÃ±Ã­a argentina Nacional FÃ³sforos. De
 ntro del IV Festival Iberoamericano La Senda del TÃ­tere. Libros de brujerÃ
 ­a\,  tarÃ¡ntulas\,  espejos que reflejan con retraso\,  una peluca hecha d
 e lombrices\,  una muÃ±eca con cerebro de sapo y un globo terrÃ¡queo al rev
 Ã©s: todas esas cosas guarda Bilina en su[..]\nhttps://www.menudoesleon.com
 /eventos/mundo-bilina/
URL:https://www.menudoesleon.com/eventos/mundo-bilina/
END:VEVENT
END:VCALENDAR