BEGIN:VCALENDAR
VERSION:2.0
PRODID:-//eventon.com NONSGML v1.0//EN
CALSCALE:GREGORIAN
METHOD:PUBLISH
BEGIN:VEVENT
UID:69e9e2e582038
DTSTAMP:20260423T091413Z
DTSTART:20260423T080000Z
DTEND:20260423T215900Z
LOCATION:
SUMMARY:II Jornada visibilización FOP
DESCRIPTION:La asociación Por Dos Pulgares de Nada organiza la II Jornada 
 de Visibilización de la Fibrodisplasia Osificante Progresiva (FOP). Se cel
 ebrará en La Pola de Gordón\,  en la zona de las instalaciones deportivas
  y habrá numerosas actividades para toda la familia. Esta cita tiene como 
 objetivo seguir concienciando sobre la[..]\nhttps://www.menudoesleon.com/ev
 entos/ii-jornada-visibilizacion-fop/
URL:https://www.menudoesleon.com/eventos/ii-jornada-visibilizacion-fop/
END:VEVENT
END:VCALENDAR