BEGIN:VCALENDAR
VERSION:2.0
PRODID:-//eventon.com NONSGML v1.0//EN
CALSCALE:GREGORIAN
METHOD:PUBLISH
BEGIN:VEVENT
UID:69ebfbc935767
DTSTAMP:20260424T232457Z
DTSTART:20190324T173000Z
DTEND:20190324T225000Z
LOCATION:Auditorio de LeÃ³n Av. de los Reyes Leoneses\,  4\,  24008 LeÃ³n
SUMMARY:De la punta a la tuerca
DESCRIPTION:EspectÃ¡culo de danza para niÃ±os ProgramaciÃ³n familiar Duraci
 Ã³n: 60 minutos Edad: De 6 a 16 aÃ±os Entradas: A un precio de 6 euros\,  p
 ueden adquirirse en la taquilla del Auditorio o en su pÃ¡gina web. Â¿De quÃ
 © va? Desde la perspectiva de cada personaje van componiendo una pequeÃ±a h
 istoria de[..]\nhttps://www.menudoesleon.com/eventos/de-la-punta-a-la-tuerc
 a/
URL:https://www.menudoesleon.com/eventos/de-la-punta-a-la-tuerca/
END:VEVENT
END:VCALENDAR